BEGIN:VCALENDAR
VERSION:2.0
PRODID:Assembleia de Freguesia de Mirandela (30 de Abril)
X-WR-CALNAME:Assembleia de Freguesia de Mirandela (30 de Abril)
X-WR-TIMEZONE:Europe/Lisbon
X-PUBLISHED-TTL:P1W
BEGIN:VTIMEZONE
TZID:Europe/Lisbon
X-LIC-LOCATION:Europe/Lisbon
END:VTIMEZONE
BEGIN:VEVENT
UID:69e71dabd9166
DTSTART;VALUE=DATE:20260430
SEQUENCE:0
TRANSP:OPAQUE
DTEND;VALUE=DATE:20260501
SUMMARY:Assembleia de Freguesia de Mirandela (30 de Abril)
CLASS:PUBLIC
DESCRIPTION:A&nbsp\;Junta de Freguesia de Mirandela&nbsp\;informa que irá 
 realizar-se\, no próximo&nbsp\;dia 30 de abril de 2026\, a&nbsp\;Sessão 
 da Assembleia de Freguesia de Mirandela.Este momento institucional reveste
 -se de grande importância para a vida democrática da freguesia\, constit
 uindo uma oportunidade para a apreciação e discussão dos assuntos de in
 teresse para a comunidade\, bem como para o acompanhamento da atividade de
 senvolvida pela autarquia.A Junta de Freguesia convida todos os fregueses 
 a acompanharem esta sessão\, reforçando assim a participação cívica e
  o envolvimento da população na vida da freguesia.Data:&nbsp\;30 de abri
 l de 2026Local:&nbsp\;Sede da Junta de Freguesia de MirandelaHora:&nbsp\;1
 9H00
X-MICROSOFT-CDO-ALLDAYEVENT:TRUE
DTSTAMP:20260421T064811Z
END:VEVENT
END:VCALENDAR