BEGIN:VCALENDAR
VERSION:2.0
PRODID:Festival de Papagaios de Papel | Ecoteca de Mirandela
X-WR-CALNAME:Festival de Papagaios de Papel | Ecoteca de Mirandela
X-WR-TIMEZONE:Europe/Lisbon
X-PUBLISHED-TTL:P1W
BEGIN:VTIMEZONE
TZID:Europe/Lisbon
X-LIC-LOCATION:Europe/Lisbon
END:VTIMEZONE
BEGIN:VEVENT
UID:69e720d33b3fd
DTSTART;VALUE=DATE:20260524
SEQUENCE:0
TRANSP:OPAQUE
DTEND;VALUE=DATE:20260525
SUMMARY:Festival de Papagaios de Papel | Ecoteca de Mirandela
CLASS:PUBLIC
DESCRIPTION:Neste mês de maio\, Mirandela convida-te a olhar o céu e a me
 rgulhar na nossa história.Nos dias 24 e 25\, a Ecoteca e o Parque da Ribe
 ira de Carvalhais tornam-se o epicentro de uma celebração única que fun
 de a tradição histórica com a vitalidade da natureza do nosso territór
 io.O evento assinala o Dia da Municipalidade\, recordando o foral de 1250 
 através de um programa que privilegia o convívio comunitário e a susten
 tabilidade ambiental.Sob a inspiração do vento\, do rio e da comunidade\
 , o festival oferece uma oficina de construção de papagaios artesanais e
  o espetáculo coletivo que promete pintar os céus de Mirandela.Uma exper
 iência sensorial para todas as idades\, onde a história da \"cidade jard
 im\" se renova a cada voo.&nbsp\;Local:&nbsp\;Ecoteca de MirandelaData:&nb
 sp\;24 e 25 de maio de 2026
X-MICROSOFT-CDO-ALLDAYEVENT:TRUE
DTSTAMP:20260421T070139Z
END:VEVENT
END:VCALENDAR