BEGIN:VCALENDAR
VERSION:2.0
PRODID:Síntese – Grupo de Música Contemporânea em Mirandela
X-WR-CALNAME:Síntese – Grupo de Música Contemporânea em Mirandela
X-WR-TIMEZONE:Europe/Lisbon
X-PUBLISHED-TTL:P1W
BEGIN:VTIMEZONE
TZID:Europe/Lisbon
X-LIC-LOCATION:Europe/Lisbon
END:VTIMEZONE
BEGIN:VEVENT
UID:69e941638a831
DTSTART;VALUE=DATE:20250613
SEQUENCE:0
TRANSP:OPAQUE
DTEND;VALUE=DATE:20250614
SUMMARY:Síntese – Grupo de Música Contemporânea em Mirandela
CLASS:PUBLIC
DESCRIPTION:O Síntese GMC é uma plataforma criativa dedicada à música c
 ontemporânea\, que promove o encontro entre intérpretes e compositores p
 ara a criação de novas obras e a exploração de universos sonoros inova
 dores. Com origem na Guarda\, o grupo tem vindo a afirmar-se como um dos p
 rincipais dinamizadores da criação musical em Portugal\, estimulando a e
 scrita de música original e o diálogo constante com diferentes comunidad
 es.Em Mirandela\, o projeto traz consigo uma programação diversificada q
 ue une formação\, criação artística e fruição musical. Ao longo de 
 vários dias\, haverá oficinas dirigidas a jovens músicos\, concertos em
  espaços simbólicos da cidade\, momentos de partilha com a comunidade e 
 uma residência artística numa aldeia do concelho\, culminando com a estr
 eia de uma nova obra do compositor Vasco Martins. Estas iniciativas propõ
 em uma vivência próxima e envolvente da música contemporânea\, promove
 ndo a criatividade\, a escuta ativa e a valorização do território atrav
 és da arte.
X-MICROSOFT-CDO-ALLDAYEVENT:TRUE
DTSTAMP:20260422T214507Z
END:VEVENT
END:VCALENDAR