BEGIN:VCALENDAR
VERSION:2.0
PRODID:Festa em Honra de Nossa Senhora do Barreiro - Vale de Telhas
X-WR-CALNAME:Festa em Honra de Nossa Senhora do Barreiro - Vale de Telhas
X-WR-TIMEZONE:Europe/Lisbon
X-PUBLISHED-TTL:P1W
BEGIN:VTIMEZONE
TZID:Europe/Lisbon
X-LIC-LOCATION:Europe/Lisbon
END:VTIMEZONE
BEGIN:VEVENT
UID:69e587f510313
DTSTART;VALUE=DATE:20240806
SEQUENCE:0
TRANSP:OPAQUE
DTEND;VALUE=DATE:20240807
SUMMARY:Festa em Honra de Nossa Senhora do Barreiro - Vale de Telhas
CLASS:PUBLIC
DESCRIPTION:Festa em Honra de Nossa Senhora do Barreiro - Vale de Telhas
X-MICROSOFT-CDO-ALLDAYEVENT:TRUE
DTSTAMP:20260420T015709Z
END:VEVENT
END:VCALENDAR